BEGIN:VCALENDAR
VERSION:2.0
PRODID:-//Brandon Sun - ECPv6.15.20//NONSGML v1.0//EN
CALSCALE:GREGORIAN
METHOD:PUBLISH
X-WR-CALNAME:Brandon Sun
X-ORIGINAL-URL:https://www.brandonsun.com
X-WR-CALDESC:Events for Brandon Sun
REFRESH-INTERVAL;VALUE=DURATION:PT1H
X-Robots-Tag:noindex
X-PUBLISHED-TTL:PT1H
BEGIN:VTIMEZONE
TZID:America/Winnipeg
BEGIN:DAYLIGHT
TZOFFSETFROM:-0600
TZOFFSETTO:-0500
TZNAME:CDT
DTSTART:20250309T080000
END:DAYLIGHT
BEGIN:STANDARD
TZOFFSETFROM:-0500
TZOFFSETTO:-0600
TZNAME:CST
DTSTART:20251102T070000
END:STANDARD
BEGIN:DAYLIGHT
TZOFFSETFROM:-0600
TZOFFSETTO:-0500
TZNAME:CDT
DTSTART:20260308T080000
END:DAYLIGHT
BEGIN:STANDARD
TZOFFSETFROM:-0500
TZOFFSETTO:-0600
TZNAME:CST
DTSTART:20261101T070000
END:STANDARD
BEGIN:DAYLIGHT
TZOFFSETFROM:-0600
TZOFFSETTO:-0500
TZNAME:CDT
DTSTART:20270314T080000
END:DAYLIGHT
BEGIN:STANDARD
TZOFFSETFROM:-0500
TZOFFSETTO:-0600
TZNAME:CST
DTSTART:20271107T070000
END:STANDARD
END:VTIMEZONE
BEGIN:VEVENT
DTSTART;TZID=America/Winnipeg:20260711T110000
DTEND;TZID=America/Winnipeg:20260711T190000
DTSTAMP:20260420T182011
CREATED:20260406T171302Z
LAST-MODIFIED:20260406T171302Z
UID:600468665-1783767600-1783796400@www.brandonsun.com
SUMMARY:Naija Market Day
DESCRIPTION:Looking for a vibrant cultural experience the whole family can enjoy?\nNaija Market Day is your passport to the heart of Africa — no flight required! 💃🏾🔥 \nStep into a lively\, open-air marketplace filled with the colours\, sounds\, flavours\, and energy of African culture\, all in one unforgettable day. \nWhether you’re a tourist exploring something new\, a culture lover seeking rich experiences\, or a family looking for a fun and meaningful day out\, Naija Market Day has something for you. \nBring your friends\, bring your kids\, bring your curiosity — and come experience the beauty of Africa right here in Brandon. \nDon’t just hear about it… come live it.
URL:https://www.brandonsun.com/event/naija-market-day
ATTACH;FMTTYPE=image/jpeg:https://www.brandonsun.com/wp-content/uploads/sites/3/2026/04/brandon.jpg-2.jpeg
END:VEVENT
END:VCALENDAR